BEGIN:VCALENDAR
PRODID:-//Microsoft Corporation//Outlook MIMEDIR//EN
VERSION:2.0
METHOD:PUBLISH
BEGIN:VEVENT
DTSTART:20260615T130000
DTEND:20260615T140000
DESCRIPTION:
LOCATION:Main Library - Council Chambers
SUMMARY:Pension Trustees
CATEGORIES:MEETING
END:VEVENT
END:VCALENDAR
