BEGIN:VCALENDAR
PRODID:-//Microsoft Corporation//Outlook MIMEDIR//EN
VERSION:2.0
METHOD:PUBLISH
BEGIN:VEVENT
DTSTART:20260519T130000
DTEND:20260519T140000
DESCRIPTION:
LOCATION:Main Library - Council Chambers
SUMMARY:Community Development Board
CATEGORIES:MEETING
END:VEVENT
END:VCALENDAR
