BEGIN:VCALENDAR
PRODID:-//Microsoft Corporation//Outlook MIMEDIR//EN
VERSION:2.0
METHOD:PUBLISH
BEGIN:VEVENT
DTSTART:20260504T130000
DTEND:20260504T140000
DESCRIPTION:
LOCATION:Main Library - Council Chambers
SUMMARY:Downtown Development Board
CATEGORIES:MEETING
END:VEVENT
END:VCALENDAR
