BEGIN:VCALENDAR
PRODID:-//Microsoft Corporation//Outlook MIMEDIR//EN
VERSION:2.0
METHOD:PUBLISH
BEGIN:VEVENT
DTSTART:20260415T190000
DTEND:20260415T200000
DESCRIPTION:Special Meeting - ROOM #3
LOCATION:North Greenwood Recreation Center - Room #1 -  900 N. Martin Luther King, Jr. Avenue, Clearwater, FL 33755
SUMMARY:North Greenwood Citizens Advisory Committee
CATEGORIES:MEETING
END:VEVENT
END:VCALENDAR
