BEGIN:VCALENDAR
PRODID:-//Microsoft Corporation//Outlook MIMEDIR//EN
VERSION:2.0
METHOD:PUBLISH
BEGIN:VEVENT
DTSTART:20260512T090000
DTEND:20260512T100000
DESCRIPTION:
LOCATION:Main Library - Council Chambers
SUMMARY:Neighborhood and Affordable Housing Advisory Board
CATEGORIES:MEETING
END:VEVENT
END:VCALENDAR
